BEGIN:VCALENDAR
VERSION:2.0
PRODID:-//Tukios.com/
BEGIN:VEVENT
UID:75a5c8bc-9eb3-4627-a39e-3b14af9b1343@www.galzeranofh.net
DTSTAMP:20260423T174328Z
DTSTART:20260430T140000Z
DTEND:20260430T150000Z
SUMMARY:Viewing
DESCRIPTION:
URL:https://www.galzeranofh.net/obituaries/michael-marozzi
LOCATION:St Ann Church 357 Dorrance Street  Bristol PA 19007
GEO:40.1004497;-74.8519648
END:VEVENT
END:VCALENDAR