BEGIN:VCALENDAR
VERSION:2.0
PRODID:-//Tukios.com/
BEGIN:VEVENT
UID:524eafa9-5817-4673-a169-ec8ef5841552@www.galzeranofh.net
DTSTAMP:20260423T173938Z
DTSTART:20260430
SUMMARY:Mass
DESCRIPTION:
URL:https://www.galzeranofh.net/obituaries/michael-marozzi
LOCATION:St Ann Church 357 Dorrance Street  Bristol PA 19007
GEO:40.1004615;-74.8519598
END:VEVENT
END:VCALENDAR