BEGIN:VCALENDAR
VERSION:2.0
PRODID:-//Tukios.com/
BEGIN:VEVENT
UID:ed32a11f-a840-40d3-b77f-d0c61dcf505f@www.galzeranofh.net
DTSTAMP:20260421T013130Z
DTSTART:20260424T150000Z
DTEND:20260424T161500Z
SUMMARY:Visitation
DESCRIPTION:
URL:https://www.galzeranofh.net/obituaries/judyth-diaz-zaragoza
LOCATION:Galzerano Funeral Home - Levittown 3500 Bristol - Oxford Valley 
	Road  Levittown PA 19057
GEO:40.1318946;-74.8701094
END:VEVENT
END:VCALENDAR