BEGIN:VCALENDAR
VERSION:2.0
PRODID:-//Tukios.com/
BEGIN:VEVENT
UID:6e2cbcc0-9d98-4564-b6a8-598d021a4ca1@www.galzeranofh.net
DTSTAMP:20260421T012931Z
DTSTART:20260424
SUMMARY:Interment
DESCRIPTION:
URL:https://www.galzeranofh.net/obituaries/judyth-diaz-zaragoza
LOCATION:Rosedale Memorial Park 3850 Richlieu Road  Bensalem PA 19020
GEO:40.1323471;-74.9493728
END:VEVENT
END:VCALENDAR