BEGIN:VCALENDAR
VERSION:2.0
PRODID:-//Tukios.com/
BEGIN:VEVENT
UID:4e490cd5-929d-4265-a33c-a52aa31a290f@www.galzeranofh.net
DTSTAMP:20260421T085004Z
DTSTART:20260415T153000Z
DTEND:20260415T163000Z
SUMMARY:Funeral Service
DESCRIPTION:
URL:https://www.galzeranofh.net/obituaries/edwin-torruellas
LOCATION:Galzerano Funeral Home - Levittown 3500 Bristol - Oxford Valley 
	Road  Levittown PA 19057
GEO:40.1318906;-74.8701072
END:VEVENT
END:VCALENDAR