BEGIN:VCALENDAR
VERSION:2.0
PRODID:-//Tukios.com/
BEGIN:VEVENT
UID:84f2095d-0609-4b50-8422-321608d031ca@www.galzeranofh.net
DTSTAMP:20260421T090259Z
DTSTART:20260415
SUMMARY:Interment
DESCRIPTION:
URL:https://www.galzeranofh.net/obituaries/edwin-torruellas
LOCATION:Resurrection Cemetery 5201 Hulmeville Road  Bensalem PA 19020
GEO:40.1191584;-74.922241
END:VEVENT
END:VCALENDAR